Package: CMA Version: 1.67.0 Command: rm -rf CMA.buildbin-libdir && mkdir CMA.buildbin-libdir && /Users/biocbuild/BBS/utils/build-universal.sh CMA_1.67.0.tar.gz /Library/Frameworks/R.framework/Resources/bin/R CMA.buildbin-libdir StartedAt: 2025-10-20 03:02:12 -0400 (Mon, 20 Oct 2025) EndedAt: 2025-10-20 03:02:36 -0400 (Mon, 20 Oct 2025) EllapsedTime: 23.2 seconds RetCode: 0 Status: OK PackageFile: CMA_1.67.0.tgz PackageFileSize: 1.898 MiB