Package: CMA Version: 1.67.0 Command: /Library/Frameworks/R.framework/Resources/bin/R CMD check --install=check:CMA.install-out.txt --library=/Library/Frameworks/R.framework/Resources/library --no-vignettes --timings CMA_1.67.0.tar.gz StartedAt: 2025-10-19 18:58:35 -0400 (Sun, 19 Oct 2025) EndedAt: 2025-10-19 18:59:02 -0400 (Sun, 19 Oct 2025) EllapsedTime: 27.3 seconds RetCode: 0 Status: OK CheckDir: CMA.Rcheck Warnings: 0