Package: CINdex Version: 1.37.2 Command: /home/biocbuild/R/R/bin/R CMD check --install=check:CINdex.install-out.txt --library=/home/biocbuild/R/R/site-library --no-vignettes --timings CINdex_1.37.2.tar.gz StartedAt: 2025-10-17 07:18:39 -0000 (Fri, 17 Oct 2025) EndedAt: 2025-10-17 07:21:03 -0000 (Fri, 17 Oct 2025) EllapsedTime: 144.1 seconds RetCode: 0 Status: WARNINGS CheckDir: CINdex.Rcheck Warnings: 1