Package: CINdex Version: 1.37.2 Command: F:\biocbuild\bbs-3.22-bioc\R\bin\R.exe CMD INSTALL CINdex StartedAt: 2025-08-14 15:47:43 -0400 (Thu, 14 Aug 2025) EndedAt: 2025-08-14 15:48:20 -0400 (Thu, 14 Aug 2025) EllapsedTime: 37.4 seconds RetCode: 0 Status: OK