Package: CINdex Version: 1.37.2 Command: chmod a+r CINdex -R && F:\biocbuild\bbs-3.22-bioc\R\bin\R.exe CMD build --keep-empty-dirs --no-resave-data CINdex StartedAt: 2025-08-14 19:08:15 -0400 (Thu, 14 Aug 2025) EndedAt: 2025-08-14 19:13:45 -0400 (Thu, 14 Aug 2025) EllapsedTime: 329.1 seconds RetCode: 0 Status: OK PackageFile: CINdex_1.37.2.tar.gz PackageFileSize: 12.5 MiB