Package: CINdex Version: 1.37.2 Command: rm -rf CINdex.buildbin-libdir && mkdir CINdex.buildbin-libdir && F:\biocbuild\bbs-3.22-bioc\R\bin\R.exe CMD INSTALL --build --library=CINdex.buildbin-libdir CINdex_1.37.2.tar.gz StartedAt: 2025-08-15 09:57:51 -0400 (Fri, 15 Aug 2025) EndedAt: 2025-08-15 09:58:23 -0400 (Fri, 15 Aug 2025) EllapsedTime: 32.5 seconds RetCode: 0 Status: OK PackageFile: CINdex_1.37.2.zip PackageFileSize: 16.6 MiB