Package: CHRONOS Version: 1.37.0 Command: /Library/Frameworks/R.framework/Resources/bin/R CMD INSTALL CHRONOS StartedAt: 2025-10-22 15:24:16 -0400 (Wed, 22 Oct 2025) EndedAt: 2025-10-22 15:24:44 -0400 (Wed, 22 Oct 2025) EllapsedTime: 28.6 seconds RetCode: 0 Status: OK