Package: CHRONOS Version: 1.37.0 Command: /Library/Frameworks/R.framework/Resources/bin/R CMD build --keep-empty-dirs --no-resave-data CHRONOS StartedAt: 2025-10-22 16:25:06 -0400 (Wed, 22 Oct 2025) EndedAt: 2025-10-22 16:25:45 -0400 (Wed, 22 Oct 2025) EllapsedTime: 38.7 seconds RetCode: 0 Status: OK PackageFile: CHRONOS_1.37.0.tar.gz PackageFileSize: 1.118 MiB