Package: CHETAH Version: 1.25.1 Command: /home/biocbuild/R/R/bin/R CMD INSTALL CHETAH StartedAt: 2025-10-16 22:20:12 -0000 (Thu, 16 Oct 2025) EndedAt: 2025-10-16 22:20:49 -0000 (Thu, 16 Oct 2025) EllapsedTime: 37.1 seconds RetCode: 0 Status: OK