Package: CHETAH Version: 1.25.1 Command: /home/biocbuild/R/R/bin/R CMD build --keep-empty-dirs --no-resave-data CHETAH StartedAt: 2025-10-16 23:56:48 -0000 (Thu, 16 Oct 2025) EndedAt: 2025-10-16 23:58:23 -0000 (Thu, 16 Oct 2025) EllapsedTime: 95.0 seconds RetCode: 0 Status: OK PackageFile: CHETAH_1.25.1.tar.gz PackageFileSize: 3.311 MiB