Package: CHETAH Version: 1.25.0 Command: F:\biocbuild\bbs-3.22-bioc\R\bin\R.exe CMD INSTALL CHETAH StartedAt: 2025-08-14 16:55:56 -0400 (Thu, 14 Aug 2025) EndedAt: 2025-08-14 16:56:34 -0400 (Thu, 14 Aug 2025) EllapsedTime: 37.8 seconds RetCode: 0 Status: OK