Package: CHETAH Version: 1.25.0 Command: rm -rf CHETAH.buildbin-libdir && mkdir CHETAH.buildbin-libdir && F:\biocbuild\bbs-3.22-bioc\R\bin\R.exe CMD INSTALL --build --library=CHETAH.buildbin-libdir CHETAH_1.25.0.tar.gz StartedAt: 2025-08-15 09:56:24 -0400 (Fri, 15 Aug 2025) EndedAt: 2025-08-15 09:57:04 -0400 (Fri, 15 Aug 2025) EllapsedTime: 40.4 seconds RetCode: 0 Status: OK PackageFile: CHETAH_1.25.0.zip PackageFileSize: 3.235 MiB