Package: CHETAH Version: 1.25.1 Command: /home/biocbuild/bbs-3.22-bioc/R/bin/R CMD INSTALL CHETAH StartedAt: 2025-10-19 15:58:39 -0400 (Sun, 19 Oct 2025) EndedAt: 2025-10-19 15:59:09 -0400 (Sun, 19 Oct 2025) EllapsedTime: 29.1 seconds RetCode: 0 Status: OK