Package: CHETAH Version: 1.25.1 Command: /home/biocbuild/bbs-3.22-bioc/R/bin/R CMD check --install=check:CHETAH.install-out.txt --library=/home/biocbuild/bbs-3.22-bioc/R/site-library --timings CHETAH_1.25.1.tar.gz StartedAt: 2025-10-19 22:03:47 -0400 (Sun, 19 Oct 2025) EndedAt: 2025-10-19 22:08:07 -0400 (Sun, 19 Oct 2025) EllapsedTime: 260.3 seconds RetCode: 0 Status: OK CheckDir: CHETAH.Rcheck Warnings: 0