Package: CHETAH Version: 1.25.1 Command: /Library/Frameworks/R.framework/Resources/bin/R CMD INSTALL CHETAH StartedAt: 2025-10-19 15:49:00 -0400 (Sun, 19 Oct 2025) EndedAt: 2025-10-19 15:49:39 -0400 (Sun, 19 Oct 2025) EllapsedTime: 39.4 seconds RetCode: 0 Status: OK