Package: CHETAH Version: 1.25.1 Command: /Library/Frameworks/R.framework/Resources/bin/R CMD build --keep-empty-dirs --no-resave-data CHETAH StartedAt: 2025-10-19 16:27:31 -0400 (Sun, 19 Oct 2025) EndedAt: 2025-10-19 16:28:52 -0400 (Sun, 19 Oct 2025) EllapsedTime: 81.3 seconds RetCode: 0 Status: OK PackageFile: CHETAH_1.25.1.tar.gz PackageFileSize: 3.579 MiB