Package: CHETAH Version: 1.25.1 Command: rm -rf CHETAH.buildbin-libdir && mkdir CHETAH.buildbin-libdir && /Users/biocbuild/BBS/utils/build-universal.sh CHETAH_1.25.1.tar.gz /Library/Frameworks/R.framework/Resources/bin/R CHETAH.buildbin-libdir StartedAt: 2025-10-19 22:53:45 -0400 (Sun, 19 Oct 2025) EndedAt: 2025-10-19 22:53:57 -0400 (Sun, 19 Oct 2025) EllapsedTime: 12.2 seconds RetCode: 0 Status: OK PackageFile: CHETAH_1.25.1.tgz PackageFileSize: 3.555 MiB