Package: CHETAH Version: 1.25.1 Maintainer: Jurrian de Kanter MaintainerEmail: jurriandekanter at gmail.com git_url: https://git.bioconductor.org/packages/CHETAH git_branch: devel git_last_commit: 050924f git_last_commit_date: 2025-10-14 14:33:07 -0400 (Tue, 14 Oct 2025)