Package: CGHregions Version: 1.67.0 Command: chmod a+r CGHregions -R && F:\biocbuild\bbs-3.22-bioc\R\bin\R.exe CMD build --keep-empty-dirs --no-resave-data CGHregions StartedAt: 2025-08-14 19:04:12 -0400 (Thu, 14 Aug 2025) EndedAt: 2025-08-14 19:04:37 -0400 (Thu, 14 Aug 2025) EllapsedTime: 24.3 seconds RetCode: 0 Status: OK PackageFile: CGHregions_1.67.0.tar.gz PackageFileSize: 100.5 KiB