Package: CGHnormaliter Version: 1.64.0 Command: /Library/Frameworks/R.framework/Resources/bin/R CMD INSTALL CGHnormaliter StartedAt: 2025-11-17 17:23:43 -0500 (Mon, 17 Nov 2025) EndedAt: 2025-11-17 17:23:45 -0500 (Mon, 17 Nov 2025) EllapsedTime: 1.9 seconds RetCode: 0 Status: OK