Package: CGHnormaliter Version: 1.64.0 Command: /Library/Frameworks/R.framework/Resources/bin/R CMD build --keep-empty-dirs --no-resave-data CGHnormaliter StartedAt: 2025-11-17 19:46:05 -0500 (Mon, 17 Nov 2025) EndedAt: 2025-11-17 19:46:28 -0500 (Mon, 17 Nov 2025) EllapsedTime: 23.2 seconds RetCode: 0 Status: OK PackageFile: CGHnormaliter_1.64.0.tar.gz PackageFileSize: 1.245 MiB