Package: CGHnormaliter Version: 1.64.0 Command: rm -rf CGHnormaliter.buildbin-libdir && mkdir CGHnormaliter.buildbin-libdir && /Users/biocbuild/BBS/utils/build-universal.sh CGHnormaliter_1.64.0.tar.gz /Library/Frameworks/R.framework/Resources/bin/R CGHnormaliter.buildbin-libdir StartedAt: 2025-11-18 15:15:41 -0500 (Tue, 18 Nov 2025) EndedAt: 2025-11-18 15:15:44 -0500 (Tue, 18 Nov 2025) EllapsedTime: 3.0 seconds RetCode: 0 Status: OK PackageFile: CGHnormaliter_1.64.0.tgz PackageFileSize: 1.267 MiB