Package: CGHcall Version: 2.71.0 Command: F:\biocbuild\bbs-3.22-bioc\R\bin\R.exe CMD check --no-multiarch --install=check:CGHcall.install-out.txt --library=F:\biocbuild\bbs-3.22-bioc\R\library --no-vignettes --timings CGHcall_2.71.0.tar.gz StartedAt: 2025-08-15 01:32:28 -0400 (Fri, 15 Aug 2025) EndedAt: 2025-08-15 01:33:19 -0400 (Fri, 15 Aug 2025) EllapsedTime: 50.7 seconds RetCode: 0 Status: WARNINGS CheckDir: CGHcall.Rcheck Warnings: 1