Package: CGHcall Version: 2.71.0 Command: /home/biocbuild/bbs-3.22-bioc/R/bin/R CMD INSTALL CGHcall StartedAt: 2025-10-19 15:15:41 -0400 (Sun, 19 Oct 2025) EndedAt: 2025-10-19 15:15:47 -0400 (Sun, 19 Oct 2025) EllapsedTime: 6.3 seconds RetCode: 0 Status: OK