Package: CGHcall Version: 2.71.0 Command: /Library/Frameworks/R.framework/Resources/bin/R CMD build --keep-empty-dirs --no-resave-data CGHcall StartedAt: 2025-10-20 16:25:02 -0400 (Mon, 20 Oct 2025) EndedAt: 2025-10-20 16:25:29 -0400 (Mon, 20 Oct 2025) EllapsedTime: 27.3 seconds RetCode: 0 Status: OK PackageFile: CGHcall_2.71.0.tar.gz PackageFileSize: 451.5 KiB