Package: CGHbase Version: 1.69.0 Command: /Library/Frameworks/R.framework/Resources/bin/R CMD build --keep-empty-dirs --no-resave-data CGHbase StartedAt: 2025-09-30 16:21:10 -0400 (Tue, 30 Sep 2025) EndedAt: 2025-09-30 16:21:12 -0400 (Tue, 30 Sep 2025) EllapsedTime: 2.3 seconds RetCode: 0 Status: OK PackageFile: CGHbase_1.69.0.tar.gz PackageFileSize: 848 KiB