Package: CGEN Version: 3.45.0 Command: /home/biocbuild/R/R/bin/R CMD build --keep-empty-dirs --no-resave-data CGEN StartedAt: 2025-10-13 23:03:06 -0000 (Mon, 13 Oct 2025) EndedAt: 2025-10-13 23:04:02 -0000 (Mon, 13 Oct 2025) EllapsedTime: 56.0 seconds RetCode: 0 Status: OK PackageFile: CGEN_3.45.0.tar.gz PackageFileSize: 973.6 KiB