Package: CGEN Version: 3.45.0 Command: /home/biocbuild/bbs-3.22-bioc/R/bin/R CMD INSTALL CGEN StartedAt: 2025-10-20 15:04:11 -0400 (Mon, 20 Oct 2025) EndedAt: 2025-10-20 15:04:47 -0400 (Mon, 20 Oct 2025) EllapsedTime: 35.4 seconds RetCode: 0 Status: OK