Package: CGEN Version: 3.45.0 Command: /home/biocbuild/bbs-3.22-bioc/R/bin/R CMD check --install=check:CGEN.install-out.txt --library=/home/biocbuild/bbs-3.22-bioc/R/site-library --timings CGEN_3.45.0.tar.gz StartedAt: 2025-10-20 21:57:27 -0400 (Mon, 20 Oct 2025) EndedAt: 2025-10-20 22:00:11 -0400 (Mon, 20 Oct 2025) EllapsedTime: 164.1 seconds RetCode: 0 Status: WARNINGS CheckDir: CGEN.Rcheck Warnings: 1