Package: CGEN Version: 3.45.0 Command: /Library/Frameworks/R.framework/Resources/bin/R CMD INSTALL CGEN StartedAt: 2025-10-06 15:03:13 -0400 (Mon, 06 Oct 2025) EndedAt: 2025-10-06 15:03:15 -0400 (Mon, 06 Oct 2025) EllapsedTime: 2.6 seconds RetCode: 1 Status: ERROR