Package: CFAssay Version: 1.43.0 Command: /Library/Frameworks/R.framework/Resources/bin/R CMD INSTALL CFAssay StartedAt: 2025-10-21 15:06:28 -0400 (Tue, 21 Oct 2025) EndedAt: 2025-10-21 15:06:44 -0400 (Tue, 21 Oct 2025) EllapsedTime: 15.8 seconds RetCode: 0 Status: OK