Package: CEMiTool Version: 1.33.2 Command: /home/biocbuild/R/R/bin/R CMD INSTALL CEMiTool StartedAt: 2025-10-16 22:14:55 -0000 (Thu, 16 Oct 2025) EndedAt: 2025-10-16 22:15:33 -0000 (Thu, 16 Oct 2025) EllapsedTime: 38.0 seconds RetCode: 0 Status: OK