Package: CEMiTool Version: 1.33.2 Command: /home/biocbuild/R/R/bin/R CMD build --keep-empty-dirs --no-resave-data CEMiTool StartedAt: 2025-10-16 23:52:52 -0000 (Thu, 16 Oct 2025) EndedAt: 2025-10-16 23:55:24 -0000 (Thu, 16 Oct 2025) EllapsedTime: 152.0 seconds RetCode: 0 Status: OK PackageFile: CEMiTool_1.33.2.tar.gz PackageFileSize: 4.767 MiB