Package: CCPlotR Version: 1.7.0 Command: F:\biocbuild\bbs-3.22-bioc\R\bin\R.exe CMD check --no-multiarch --install=check:CCPlotR.install-out.txt --library=F:\biocbuild\bbs-3.22-bioc\R\library --no-vignettes --timings CCPlotR_1.7.0.tar.gz StartedAt: 2025-08-15 01:25:47 -0400 (Fri, 15 Aug 2025) EndedAt: 2025-08-15 01:27:52 -0400 (Fri, 15 Aug 2025) EllapsedTime: 125.0 seconds RetCode: 0 Status: OK CheckDir: CCPlotR.Rcheck Warnings: 0