Package: CCPROMISE Version: 1.35.0 Command: /Library/Frameworks/R.framework/Resources/bin/R CMD check --install=check:CCPROMISE.install-out.txt --library=/Library/Frameworks/R.framework/Resources/library --no-vignettes --timings CCPROMISE_1.35.0.tar.gz StartedAt: 2025-10-26 19:03:05 -0400 (Sun, 26 Oct 2025) EndedAt: 2025-10-26 19:04:12 -0400 (Sun, 26 Oct 2025) EllapsedTime: 66.8 seconds RetCode: 0 Status: WARNINGS CheckDir: CCPROMISE.Rcheck Warnings: 1