Package: CATALYST Version: 1.33.1 Command: F:\biocbuild\bbs-3.22-bioc\R\bin\R.exe CMD check --no-multiarch --install=check:CATALYST.install-out.txt --library=F:\biocbuild\bbs-3.22-bioc\R\library --no-vignettes --timings CATALYST_1.33.1.tar.gz StartedAt: 2025-08-15 01:20:25 -0400 (Fri, 15 Aug 2025) EndedAt: 2025-08-15 01:33:09 -0400 (Fri, 15 Aug 2025) EllapsedTime: 764.2 seconds RetCode: 0 Status: OK CheckDir: CATALYST.Rcheck Warnings: 0