Package: CARDspa Version: 1.1.0 Command: /Library/Frameworks/R.framework/Resources/bin/R CMD check --install=check:CARDspa.install-out.txt --library=/Library/Frameworks/R.framework/Resources/library --no-vignettes --timings CARDspa_1.1.0.tar.gz StartedAt: 2025-10-24 20:00:46 -0400 (Fri, 24 Oct 2025) EndedAt: 2025-10-24 20:08:22 -0400 (Fri, 24 Oct 2025) EllapsedTime: 455.4 seconds RetCode: 0 Status: OK CheckDir: CARDspa.Rcheck Warnings: 0