Package: CARDspa Version: 1.1.0 Command: /Library/Frameworks/R.framework/Resources/bin/R CMD build --keep-empty-dirs --no-resave-data CARDspa StartedAt: 2025-10-24 16:25:31 -0400 (Fri, 24 Oct 2025) EndedAt: 2025-10-24 16:32:39 -0400 (Fri, 24 Oct 2025) EllapsedTime: 427.9 seconds RetCode: 0 Status: OK PackageFile: CARDspa_1.1.0.tar.gz PackageFileSize: 4.529 MiB