Package: CARDspa Version: 1.1.0 Command: /Library/Frameworks/R.framework/Resources/bin/R CMD INSTALL CARDspa StartedAt: 2025-10-16 15:30:57 -0400 (Thu, 16 Oct 2025) EndedAt: 2025-10-16 15:31:18 -0400 (Thu, 16 Oct 2025) EllapsedTime: 21.0 seconds RetCode: 0 Status: OK