Package: CARDspa Version: 1.1.0 Command: /Library/Frameworks/R.framework/Resources/bin/R CMD build --keep-empty-dirs --no-resave-data CARDspa StartedAt: 2025-10-16 16:02:55 -0400 (Thu, 16 Oct 2025) EndedAt: 2025-10-16 16:06:01 -0400 (Thu, 16 Oct 2025) EllapsedTime: 186.1 seconds RetCode: 0 Status: OK PackageFile: CARDspa_1.1.0.tar.gz PackageFileSize: 4.53 MiB