Package: CARDspa Version: 1.1.0 Command: rm -rf CARDspa.buildbin-libdir && mkdir CARDspa.buildbin-libdir && /Users/biocbuild/BBS/utils/build-universal.sh CARDspa_1.1.0.tar.gz /Library/Frameworks/R.framework/Resources/bin/R CARDspa.buildbin-libdir StartedAt: 2025-10-16 22:54:50 -0400 (Thu, 16 Oct 2025) EndedAt: 2025-10-16 22:55:14 -0400 (Thu, 16 Oct 2025) EllapsedTime: 23.4 seconds RetCode: 0 Status: OK PackageFile: CARDspa_1.1.0.tgz PackageFileSize: 4.918 MiB