Package: CAGEr Version: 2.16.0 Command: /home/biocbuild/bbs-3.22-bioc/R/bin/R CMD check --install=check:CAGEr.install-out.txt --library=/home/biocbuild/bbs-3.22-bioc/R/site-library --timings CAGEr_2.16.0.tar.gz StartedAt: 2025-11-16 21:53:34 -0500 (Sun, 16 Nov 2025) EndedAt: 2025-11-16 22:06:17 -0500 (Sun, 16 Nov 2025) EllapsedTime: 763.6 seconds RetCode: 0 Status: OK CheckDir: CAGEr.Rcheck Warnings: 0