Package: CAGEfightR Version: 1.29.1 Command: /home/biocbuild/R/R/bin/R CMD INSTALL CAGEfightR StartedAt: 2025-10-16 22:21:19 -0000 (Thu, 16 Oct 2025) EndedAt: 2025-10-16 22:22:26 -0000 (Thu, 16 Oct 2025) EllapsedTime: 67.3 seconds RetCode: 0 Status: OK