Package: CAGEfightR Version: 1.29.1 Command: /home/biocbuild/R/R/bin/R CMD build --keep-empty-dirs --no-resave-data CAGEfightR StartedAt: 2025-10-16 23:43:45 -0000 (Thu, 16 Oct 2025) EndedAt: 2025-10-16 23:47:59 -0000 (Thu, 16 Oct 2025) EllapsedTime: 254.1 seconds RetCode: 0 Status: OK PackageFile: CAGEfightR_1.29.1.tar.gz PackageFileSize: 1.621 MiB