Package: CAGEfightR Version: 1.29.1 Command: chmod a+r CAGEfightR -R && F:\biocbuild\bbs-3.22-bioc\R\bin\R.exe CMD build --keep-empty-dirs --no-resave-data CAGEfightR StartedAt: 2025-08-14 18:53:33 -0400 (Thu, 14 Aug 2025) EndedAt: 2025-08-14 18:59:53 -0400 (Thu, 14 Aug 2025) EllapsedTime: 380.1 seconds RetCode: 0 Status: OK PackageFile: CAGEfightR_1.29.1.tar.gz PackageFileSize: 1.569 MiB