Package: CAGEfightR Version: 1.29.1 Command: rm -rf CAGEfightR.buildbin-libdir && mkdir CAGEfightR.buildbin-libdir && F:\biocbuild\bbs-3.22-bioc\R\bin\R.exe CMD INSTALL --build --library=CAGEfightR.buildbin-libdir CAGEfightR_1.29.1.tar.gz StartedAt: 2025-08-15 09:53:05 -0400 (Fri, 15 Aug 2025) EndedAt: 2025-08-15 09:55:02 -0400 (Fri, 15 Aug 2025) EllapsedTime: 117.4 seconds RetCode: 0 Status: OK PackageFile: CAGEfightR_1.29.1.zip PackageFileSize: 2.494 MiB