Package: CAGEfightR Version: 1.29.1 Command: /home/biocbuild/bbs-3.22-bioc/R/bin/R CMD INSTALL CAGEfightR StartedAt: 2025-10-19 15:56:06 -0400 (Sun, 19 Oct 2025) EndedAt: 2025-10-19 15:56:56 -0400 (Sun, 19 Oct 2025) EllapsedTime: 50.0 seconds RetCode: 0 Status: OK