Package: CAGEfightR Version: 1.29.1 Command: /home/biocbuild/bbs-3.22-bioc/R/bin/R CMD check --install=check:CAGEfightR.install-out.txt --library=/home/biocbuild/bbs-3.22-bioc/R/site-library --timings CAGEfightR_1.29.1.tar.gz StartedAt: 2025-10-19 21:46:59 -0400 (Sun, 19 Oct 2025) EndedAt: 2025-10-19 21:55:45 -0400 (Sun, 19 Oct 2025) EllapsedTime: 526.5 seconds RetCode: 0 Status: OK CheckDir: CAGEfightR.Rcheck Warnings: 0