Package: CAGEfightR Version: 1.29.1 Command: /home/biocbuild/bbs-3.22-bioc/R/bin/R CMD build --keep-empty-dirs --no-resave-data --md5 CAGEfightR StartedAt: 2025-10-19 16:37:48 -0400 (Sun, 19 Oct 2025) EndedAt: 2025-10-19 16:41:19 -0400 (Sun, 19 Oct 2025) EllapsedTime: 211.2 seconds RetCode: 0 Status: OK PackageFile: CAGEfightR_1.29.1.tar.gz PackageFileSize: 1.715 MiB