Package: CAGEfightR Version: 1.29.1 Command: /Library/Frameworks/R.framework/Resources/bin/R CMD INSTALL CAGEfightR StartedAt: 2025-10-19 15:50:05 -0400 (Sun, 19 Oct 2025) EndedAt: 2025-10-19 15:51:16 -0400 (Sun, 19 Oct 2025) EllapsedTime: 70.9 seconds RetCode: 0 Status: OK